Workbook
Name Ja: 'Données pour feuille de calcul'!$W$5:$W$6
Name Nein: 'Données pour feuille de calcul'!$X$5
Name Non: 'Données pour feuille de calcul'!$X$5
Name Oui: 'Données pour feuille de calcul'!$W$5:$W$6

Sheet Calculateur
A1: FamEL-Rechner
B4: Nutzungsbedingungen
C5: Ergänzungsleistungen für Familien: Anspruch berechnen Die Ergänzungsleistungen für Familien (FamEL) sind eine finanzielle Unterstützung für Familien, die ihre Grundausgaben mit ihrem Einkommen nicht decken können. Diese Unterstützung wird auf Grundlage der Differenz zwischen dem benötigten Geldbetrag der Familie und ihrem Einkommen berechnet. Mit dem FamEL-Rechner können Sie Ihren Anspruch auf diese Leistung berechnen. Die Berechnung erfolgt vollkommen anonym und Ihre Daten werden nicht gespeichert. Das Ergebnis stellt eine vorläufige Schätzung dar, die auf einer vereinfachten Berechnungsmethode basiert. Es stellt keinen Leistungsantrag dar, bindet keine ausführenden Stellen und begründet keinen Anspruch auf Leistungen. Funktionsweise des FamEL-Rechners Bitte beantworten Sie die verschiedenen Fragen, und das Berechnungsergebnis wird sofort auf dem Bildschirm angezeigt.
B20: 1. Persönliche Voraussetzungen | K20: Antworten
C21: 1. Sind Sie seit mindestens 12 Monaten im Kanton Freiburg wohnhaft?
C23: 2. Leben Sie in einem gemeinsamen Haushalt mit einem Kind unter 12 Jahren?
C25: 3. Haben Sie ein Verwandtschaftsverhältnis zu dem Kind unter 12 Jahren? (leibliches Kind, Enkelkind, Kind Ihres Lebenspartners/Ihrer Lebenspartnerin, aufgenommenes Kind)
C27: =IF(OR(K21="",K23="",K25=""),"",IF(OR(K21="Nein",K23="Nein",K25="Nein"), "Sie erfüllen die persönlichen Voraussetzungen für den Anspruch auf diese Leistung nicht.", "Sie erfüllen die persönlichen Voraussetzungen. Bitte füllen Sie die folgenden Informationen aus, um Ihren Anspruch auf diese Leistung zu berechnen."))
B29: 2. Haushaltssituation | K29: Antworten
C30: Bitte geben Sie unten die genaue Zusammensetzung Ihres Haushalts an. Achtung: Es ist wichtig, nur die folgenden Familienmitglieder anzugeben: leibliches Kind, Kind Ihres Lebenspartners/Ihrer Lebenspartnerin, aufgenommenes Kind, Ehepartner/in, Lebenspartner/in, eingetragene/r Partner/in, Eltern, Großeltern. Die folgenden Angehörigen sind nicht anzugeben: Onkel, Tante, Bruder, Schwester. Wenn Sie ein Kind zu weniger als 40 % in Obhut haben, geben Sie dieses Kind bitte nicht an.
C31: Mitglieder von 0 bis 10 Jahren
C32: Mitglieder von 11 bis 17 Jahren
C33: Mitglieder von 18 Jahren
C34: Mitglieder von 19 bis 25 Jahren
C35: Mitglieder von 26 Jahren und älter
C36: Bitte geben Sie basierend auf den untenstehenden Informationen die Anzahl der Personen in den folgenden Kategorien an:
C37: Mitglieder im Alter von 18 bis 65 Jahren in Ausbildung
C38: Mitglieder, die das Rentenalter erreicht haben
C39: Leben noch weitere Personen in Ihrem Haushalt? Wenn ja, wie viele? Achtung: Bitte geben Sie nur Personen an, die Sie oben nicht berücksichtigt haben, wie z.B. Mitbewohner, Tante, Onkel, Bruder, Schwester usw.
C40: Weitere Mitglieder
B43: 3. Persönliche Daten | K43: Antworten
C44: Wohnsitzgemeinde
C46: Für welches Jahr möchten Sie Ihren Anspruch auf FamEL erfahren?
C48: Besitzen Sie Liegenschaften?
C50: Wohnsituation
B52: 4. Jährliches Einkommen | K52: Jahresbeträge
C53: Erwerbseinkommen einer unselbstständigen Tätigkeit
C54: Erwerbseinkommen einer selbstständigen Tätigkeit
C55: Naturaleinkommen
C57: Rente AHV/IV
C58: Rente BVG / Pensionskasse
C59: äuslandische Rente
C60: Rente Unfallversicherung/Militär
C62: IV-Taggelder
C63: Taggelder der Arbeitslosenkasse
C64: Taggelder der Unfallversicherung/Militär
C66: Familienzulagen
C67: Unterhaltszahlungen
... C71: Einkünfte aus Ersparnissen / Wertpapiere / Bankzinsen
C73: =IF(K48="Ja","Eigenmietwert gemäss der letzten Steuerveranlagungsanzeige","")
...

Sheet Données pour feuille de calcul
A1: Etat au 01.01.2025
A4: Besoins vitaux | D4: Dépenses de loyer | H4: Région de loyer et de prime | L4: Montant forfaitaire LAMal Fribourg | O4: Montant forfaitaires pour frais accessoires | Q4: Autres données | S4: Franchise fortune | U4: Année | W4: Situation de logement | Z4: Montant désaississement | AB4: Taux intérêts sur renonciation à des revenus de la fortune | AE4: Franchise bien immobilier servant d'habitation | AG4: Numérotation | AI4: Seuil de fortune
A5: Ayant droit | B5: 20670 | D5: Taille du ménage | E5: Montant | H5: Commune | I5: Région loyer | J5: Région primes | L5: Adutes région 1 | M5: 7332 | O5: 3480 | U5: 2000 | W5: Eigentümer | X5: Mieter | Z5: 10000 | AB5: 2014 | AC5: 0.004 | AE5: 112500 | AG5: 0 | AI5: 100000
A6: Membres de la famille à partir de 11 ans | D6: Région 2 : 2 personnes et plus | E6: 21720 | L6: Adultes région 2 | M6: 6756 | O6: 1740 | Q6: Ja | S6: 25000 | U6: 2001 | W6: Mieter | AB6: 2015 | AC6: 0.002 | AG6: 1 | AI6: 200000
A7: 1er et 2e membres de la famille par | B7: 10815 | D7: Région 3 : 2 personnes et plus | E7: 20160 | H7: Attalens | I7: 2 | J7: 2 | L7: Jeunes adultes région 1 | M7: 5352 | Q7: Nein | S7: 40000 | U7: 2002 | AB7: 2016 | AC7: 0.002 | AG7: 2
A8: 3e et 4e membres de la famille par | B8: 7210 | D8: Région 2 : 3 personnes | E8: 23760 | H8: Auboranges | I8: 3 | J8: 2 | L8: Jeunes adultes région 2 | M8: 4968 | U8: 2003 | AB8: 2017 | AC8: 0.0015 | AG8: 3
A9: 5e et autres membres de la famille par personne | B9: 3605 | D9: Région 3 : 3 personnes | E9: 22200 | H9: Autigny | I9: 3 | J9: 1 | L9: Enfants région 1 | M9: 1752 | U9: 2004 | AB9: 2018 | AC9: 0.0012 | AG9: 4
A10: Membres de la famille âgés de moins de 11 ans | D10: Région 2 : 4 personnes et plus | E10: 25920 | H10: Avry | I10: 2 | J10: 1 | L10: Enfants région 2 | M10: 1596 | U10: 2005 | AB10: 2019 | AC10: 0.0011 | AG10: 5
A11: 1er membre de la famille | B11: 7590 | D11: Région 3 : 4 personnes et plus | E11: 24000 | H11: Bas-Intyamon | I11: 3 | J11: 2 | U11: 2006 | AB11: 2020 | AC11: 0.0009 | AG11: 6
A12: 2e membre de la famille | B12: 6325 | H12: Belfaux | I12: 2 | J12: 1 | U12: 2007 | AB12: 2021 | AC12: 0.0006 | AG12: 7
A13: 3e membre de la famille | B13: 5270 | H13: Belmont-Broye | I13: 3 | J13: 2 | U13: 2008 | AB13: 2022 | AC13: 0.0022 | AG13: 8
A14: 4e Membres de la famille | B14: 4390 | H14: Billens-Hennens | I14: 3 | J14: 2 | U14: 2009 | AB14: 2023 | AC14: 0.0066 | AG14: 9
A15: 5e et autres membres de la famille par personne | B15: 3660 | H15: Bois-d’Amont | I15: 3 | J15: 1 | U15: 2010 | AB15: 2024 | AC15: 0.0072 | AG15: 10
H16: Bösingen | I16: 2 | J16: 2 | U16: 2011 | AB16: 2025 | AC16: 0.0072
H17: Bossonnens | I17: 2 | J17: 2 | U17: 2012 | AB17: 2026
H18: Botterens | I18: 3 | J18: 2 | U18: 2013 | AB18: 2027
H19: Broc | I19: 2 | J19: 2 | U19: 2014 | AB19: 2028
H20: Brünisried | I20: 3 | J20: 2 | U20: 2015 | AB20: 2029
H21: Bulle | I21: 2 | J21: 2 | U21: 2016 | AB21: 2030
H22: Chapelle (Glâne) | I22: 3 | J22: 2 | U22: 2017 | AB22: 2031
H23: Châtel-Saint-Denis | I23: 2 | J23: 2 | U23: 2018 | AB23: 2032
H24: Châtel-sur-Montsalvens | I24: 3 | J24: 2 | U24: 2019 | AB24: 2033
H25: Châtillon (FR) | I25: 3 | J25: 2 | U25: 2020 | AB25: 2034
H26: Châtonnaye | I26: 3 | J26: 2 | U26: 2021
H27: Chénens | I27: 3 | J27: 1 | U27: 2022
H28: Cheyres-Châbles | I28: 3 | J28: 2 | U28: 2023
H29: Corbières | I29: 3 | J29: 2 | U29: 2024
H30: Corminboeuf | I30: 2 | J30: 1 | U30: 2025
H31: Cottens (FR) | I31: 3 | J31: 1 | U31: 2026
H32: Courgevaux | I32: 2 | J32: 2 | U32: 2027
H33: Courtepin | I33: 2 | J33: 2 | U33: 2028
H34: Cressier (FR) | I34: 3 | J34: 2 | U34: 2029
H35: Crésuz | I35: 3 | J35: 2 | U35: 2030
H36: Cugy (FR) | I36: 3 | J36: 2
H37: Delley-Portalban | I37: 3 | J37: 2
H38: Düdingen | I38: 2 | J38: 2
H39: Echarlens | I39: 2 | J39: 2
H40: Écublens (FR) | I40: 3 | J40: 2
H41: Estavayer | I41: 2 | J41: 2
H42: Ferpicloz | I42: 2 | J42: 1
...
